BEGIN:VCALENDAR
VERSION:2.0
PRODID:-//ChamberMaster//Event Calendar 2.0//EN
METHOD:PUBLISH
X-PUBLISHED-TTL:P3D
REFRESH-INTERVAL:P3D
CALSCALE:GREGORIAN
BEGIN:VEVENT
DTSTART:20130729T220000Z
DTEND:20130729T230000Z
X-MICROSOFT-CDO-ALLDAYEVENT:FALSE
SUMMARY:Ribbon Cutting Ceremony: Good Life HD Shredding
DESCRIPTION:Join us for a Ribbon Cutting Ceremony for Good Life HD Shredding and Computer Recycling.  They will have their shredder on hand for demonstration.  Cool\, refreshing snacks and beverages will be served to all guests
X-ALT-DESC;FMTTYPE=text/html:Join us for a Ribbon Cutting Ceremony for Good Life HD Shredding and Computer Recycling. &nbsp\;They will have their shredder on hand for demonstration. &nbsp\;Cool\, refreshing snacks and beverages will be served to all guests
LOCATION:Chamber parking lot
UID:e.1404.3245
SEQUENCE:3
DTSTAMP:20260424T061117Z
URL:https://members.kearneycoc.org/events/details/ribbon-cutting-ceremony-good-life-hd-shredding-07-29-2013-3245
END:VEVENT

END:VCALENDAR
