BEGIN:VCALENDAR
VERSION:2.0
PRODID:-//ChamberMaster//Event Calendar 2.0//EN
METHOD:PUBLISH
X-PUBLISHED-TTL:P3D
REFRESH-INTERVAL:P3D
CALSCALE:GREGORIAN
BEGIN:VEVENT
DTSTART:20130827T150000Z
DTEND:20130827T170000Z
X-MICROSOFT-CDO-ALLDAYEVENT:FALSE
SUMMARY:Ribbon Cutting: Cherry Avenue Exit
DESCRIPTION:Join the Kearney Chamber\, the City of Kearney & the Governor for the highly anticipated Ribbon Cutting for the Cherry Avenue/I-80 exit\n\n\n\nPlease park in the east parking lot of the Archway Monument
X-ALT-DESC;FMTTYPE=text/html:Join the Kearney Chamber\, the City of Kearney &amp\; the Governor for the highly anticipated Ribbon Cutting for the Cherry Avenue/I-80 exit<br />\n<br />\nPlease park in the east parking lot of the Archway Monument
LOCATION:Just east of the Great Platte River Road Archway Monument
UID:e.1404.3249
SEQUENCE:3
DTSTAMP:20260424T035526Z
URL:https://members.kearneycoc.org/events/details/ribbon-cutting-cherry-avenue-exit-08-27-2013-3249
END:VEVENT

END:VCALENDAR
