BEGIN:VCALENDAR
VERSION:2.0
PRODID:-//ChamberMaster//Event Calendar 2.0//EN
METHOD:PUBLISH
X-PUBLISHED-TTL:P3D
REFRESH-INTERVAL:P3D
CALSCALE:GREGORIAN
BEGIN:VEVENT
DTSTART:20130712T170000Z
DTEND:20130712T173000Z
X-MICROSOFT-CDO-ALLDAYEVENT:FALSE
SUMMARY:Ribbon Cutting: Deja Vu Fashion ReGrand Opening
DESCRIPTION:Join us for the grand re-opening of Deja Vu Fashion Shoes & Apparel.  They will be featuring their brand new line of clothing
X-ALT-DESC;FMTTYPE=text/html:Join us for the grand re-opening of Deja Vu Fashion Shoes &amp\; Apparel. &nbsp\;They will be featuring their brand new line of clothing
LOCATION:next to Big Dally's Deli (3905 North 2nd Ave\, Suite 2)
UID:e.1404.3239
SEQUENCE:3
DTSTAMP:20260424T061125Z
URL:https://members.kearneycoc.org/events/details/ribbon-cutting-deja-vu-fashion-regrand-opening-07-12-2013-3239
END:VEVENT

END:VCALENDAR
