BEGIN:VCALENDAR
VERSION:2.0
PRODID:-//ChamberMaster//Event Calendar 2.0//EN
METHOD:PUBLISH
X-PUBLISHED-TTL:P3D
REFRESH-INTERVAL:P3D
CALSCALE:GREGORIAN
BEGIN:VEVENT
DTSTART:20130621T170000Z
DTEND:20130621T173000Z
X-MICROSOFT-CDO-ALLDAYEVENT:FALSE
SUMMARY:Ribbon Cutting: From Head To Toe
DESCRIPTION:Join us for a Ribbon Cutting Ceremony for From Head To Toe\, Kearney's newest salon and massage service.  The day of our grand opening we will be having people enter a drawing for several services to be given away!  We will also have a sale on all of our retail hair products!  We will be handing out coupons.  We will have hot dogs\, hamburgers\, fixings and non alcohol drinks.  And be giving tours of the facility!!
X-ALT-DESC;FMTTYPE=text/html:Join us for a Ribbon Cutting Ceremony for From Head To Toe\, Kearney&#39\;s newest salon and massage service. &nbsp\;The day of our grand opening we will be having people enter a drawing for several services to be given away! &nbsp\;We will also have a sale on all of our retail hair products! &nbsp\;We will be handing out coupons. &nbsp\;We will have hot dogs\, hamburgers\, fixings and non alcohol drinks. &nbsp\;And be giving tours of the facility!!&nbsp\;<br />\n&nbsp\;<br />\n
LOCATION:next to Luke N Jake's BBQ at 803 W 25th Street\, Suite 1
UID:e.1404.3210
SEQUENCE:3
DTSTAMP:20260424T081545Z
URL:https://members.kearneycoc.org/events/details/ribbon-cutting-from-head-to-toe-06-21-2013-3210
END:VEVENT

END:VCALENDAR
