BEGIN:VCALENDAR
VERSION:2.0
PRODID:-//ChamberMaster//Event Calendar 2.0//EN
METHOD:PUBLISH
X-PUBLISHED-TTL:P3D
REFRESH-INTERVAL:P3D
CALSCALE:GREGORIAN
BEGIN:VEVENT
DTSTART:20130301T180000Z
DTEND:20130301T183000Z
X-MICROSOFT-CDO-ALLDAYEVENT:FALSE
SUMMARY:Ribbon Cutting: Gary Thompson Agency
DESCRIPTION:Join us for a special ribbon cutting ceremony for Gary Thompson Agency's new office location and new agent\, Tony Purvis
X-ALT-DESC;FMTTYPE=text/html:Join us for a special ribbon cutting ceremony for Gary Thompson Agency&#39\;s new office location and new agent\, Tony Purvis
LOCATION:Eagles Nest Plaza\, 4009 6th Ave\, Suite 32
UID:e.1404.2238
SEQUENCE:3
DTSTAMP:20260424T140623Z
URL:https://members.kearneycoc.org/events/details/ribbon-cutting-gary-thompson-agency-03-01-2013-2238
END:VEVENT

END:VCALENDAR
