BEGIN:VCALENDAR
VERSION:2.0
PRODID:-//ChamberMaster//Event Calendar 2.0//EN
METHOD:PUBLISH
X-PUBLISHED-TTL:P3D
REFRESH-INTERVAL:P3D
CALSCALE:GREGORIAN
BEGIN:VEVENT
DTSTART:20130710T220000Z
DTEND:20130711T000000Z
X-MICROSOFT-CDO-ALLDAYEVENT:FALSE
SUMMARY:Ribbon Cutting: Kearney RV Park & Campground
DESCRIPTION:Join the Kearney RV Park & Campground for a Ribbon Cutting Ceremony at their newly expanded campground area.  A ribbon cutting will be held shortly after 5pm and an Open House will run until 7pm.  Hor d'oeuvres and adult beverages will be served
X-ALT-DESC;FMTTYPE=text/html:Join the Kearney RV Park &amp\; Campground for a Ribbon Cutting Ceremony at their newly expanded campground area. &nbsp\;A ribbon cutting will be held shortly after 5pm&nbsp\;and an Open House will run until 7pm. &nbsp\;Hor d&#39\;oeuvres&nbsp\;and adult beverages will be served
LOCATION:1140 E 1st Street
UID:e.1404.3232
SEQUENCE:3
DTSTAMP:20260424T060952Z
URL:https://members.kearneycoc.org/events/details/ribbon-cutting-kearney-rv-park-campground-07-10-2013-3232
END:VEVENT

END:VCALENDAR
