BEGIN:VCALENDAR
VERSION:2.0
PRODID:-//ChamberMaster//Event Calendar 2.0//EN
METHOD:PUBLISH
X-PUBLISHED-TTL:P3D
REFRESH-INTERVAL:P3D
CALSCALE:GREGORIAN
BEGIN:VEVENT
DTSTART:20130923T220000Z
DTEND:20130924T000000Z
X-MICROSOFT-CDO-ALLDAYEVENT:FALSE
SUMMARY:Ribbon Cutting: Kearney Tire & Auto
DESCRIPTION:Join the Kearney Chamber as we celebrate a Ribbon Cutting for the new owners of Kearney Tire & Auto\, Don & Ronda Jaeschke.  \n\n\n\nCome meet the new owners and enjoy some delicious hors d'oeuvres from Cunninghams Journal\n\n\n\nDon & Ronda look forward to offering the same great service & value that Kearney Tire & Auto has been known for.
X-ALT-DESC;FMTTYPE=text/html:Join the Kearney Chamber as we celebrate a Ribbon Cutting for the new owners of Kearney Tire &amp\; Auto\, Don &amp\; Ronda Jaeschke. &nbsp\;<br />\n<br />\nCome meet the new owners and enjoy some delicious hors d&#39\;oeuvres from Cunninghams Journal<br />\n<br />\nDon &amp\; Ronda look forward to offering the same great service &amp\; value that Kearney Tire &amp\; Auto has been known for.
LOCATION:801 E 25th Street
UID:e.1404.3293
SEQUENCE:3
DTSTAMP:20260424T021548Z
URL:https://members.kearneycoc.org/events/details/ribbon-cutting-kearney-tire-auto-09-23-2013-3293
END:VEVENT

END:VCALENDAR
