BEGIN:VCALENDAR
VERSION:2.0
PRODID:-//ChamberMaster//Event Calendar 2.0//EN
METHOD:PUBLISH
X-PUBLISHED-TTL:P3D
REFRESH-INTERVAL:P3D
CALSCALE:GREGORIAN
BEGIN:VEVENT
DTSTART:20130503T170000Z
DTEND:20130503T180000Z
X-MICROSOFT-CDO-ALLDAYEVENT:FALSE
SUMMARY:Ribbon Cutting: Kelly Supply
DESCRIPTION:Kelly Supply Company will be celebrating the Grand Opening of its newest\n\n\n	location in Kearney\, Nebraska.\n\n	******\n\n	We would like to invite you to join us on Friday\, May 3rd from 11 2 (Ribbon Cutting @ noon).\n\n	******\n\n	Lunch will be served as well as door prize drawings every half hour.\n\n	\n		\n\n		Over the past 110 years Kelly Supply Company has been a premier wholesale distributor of industrial supplies ranging from electrical\, plumbing\, agricultural\, power transmission and custom made industrial and hydraulic hoses. With the addition of their newest branch\, they have grown to 13 branches located across Nebraska\, Iowa and Colorado.
X-ALT-DESC;FMTTYPE=text/html:Kelly Supply Company will be celebrating the Grand Opening of its newest<br />\n<div>\n	location in Kearney\, Nebraska.</div>\n<div>\n	******</div>\n<div>\n	We would like to invite you to join us on Friday\, May 3rd from 11&mdash\;2 (Ribbon Cutting @ noon).</div>\n<div>\n	******</div>\n<div>\n	Lunch will be served as well as door prize drawings every half hour.<br />\n	<div>\n		<br />\n		Over the past 110 years Kelly Supply Company has been a premier wholesale distributor of industrial supplies ranging from electrical\, plumbing\, agricultural\, power transmission and custom made industrial and hydraulic hoses. With the addition of their newest branch\, they have grown to 13 branches located across Nebraska\, Iowa and Colorado.</div>\n</div>\n<br />\n
LOCATION:3210 Antelope Avenue\, Suite E
UID:e.1404.2491
SEQUENCE:3
DTSTAMP:20260424T103745Z
URL:https://members.kearneycoc.org/events/details/ribbon-cutting-kelly-supply-05-03-2013-2491
END:VEVENT

END:VCALENDAR
