BEGIN:VCALENDAR
VERSION:2.0
PRODID:-//ChamberMaster//Event Calendar 2.0//EN
METHOD:PUBLISH
X-PUBLISHED-TTL:P3D
REFRESH-INTERVAL:P3D
CALSCALE:GREGORIAN
BEGIN:VEVENT
DTSTART:20131008T220000Z
DTEND:20131009T000000Z
X-MICROSOFT-CDO-ALLDAYEVENT:FALSE
SUMMARY:Ribbon Cutting/Launch Party: AIM
DESCRIPTION:Join us for the official launch party to kick-off our Central Nebraska programs! Come enjoy complimentary food and drinks\, meet with Lisa Karnatz and talk to her about how AIM plans to enhance the communities in the region!   Click here to RSVP and get a free drink ticket! http://events.constantcontact.com/register/event?oeidk=a07e874jwoo60698193
X-ALT-DESC;FMTTYPE=text/html:<p style="margin-bottom:12.0pt">\n	<span style="font-family:&quot\;Helvetica&quot\;\,&quot\;sans-serif&quot\;\;\ncolor:#555555">Join us for the official launch party&nbsp\;to kick-off our Central Nebraska programs! Come enjoy complimentary food and drinks\, meet with Lisa Karnatz and talk to her about how AIM plans to enhance the communities in the region! &nbsp\; Click here to RSVP and get a free drink ticket!&nbsp\;</span><o:p></o:p><a href="http://events.constantcontact.com/register/event?oeidk=a07e874jwoo60698193" style="font-size: 12pt\; font-family: 'times new roman'\, serif\;" target="_blank">http://events.constantcontact.com/register/event?oeidk=a07e874jwoo60698193</a></p>\n<p style="margin-bottom:0in\;margin-bottom:.0001pt">\n	&nbsp\;</p>\n
LOCATION:The Frank House 2010 University Drive Kearney\, NE
UID:e.1404.3300
SEQUENCE:3
DTSTAMP:20260424T020713Z
URL:https://members.kearneycoc.org/events/details/ribbon-cutting-launch-party-aim-10-08-2013-3300
END:VEVENT

END:VCALENDAR
