BEGIN:VCALENDAR
VERSION:2.0
PRODID:-//ChamberMaster//Event Calendar 2.0//EN
METHOD:PUBLISH
X-PUBLISHED-TTL:P3D
REFRESH-INTERVAL:P3D
CALSCALE:GREGORIAN
BEGIN:VEVENT
DTSTART:20130506T150000Z
DTEND:20130506T153000Z
X-MICROSOFT-CDO-ALLDAYEVENT:FALSE
SUMMARY:Ribbon Cutting: Leafie Mae Inclusive Playground
DESCRIPTION:You are cordially invited to the Leafie Mae Inclusive Playground Grand Opening to celebrate "A place in the heart of our city where everyone can play"
X-ALT-DESC;FMTTYPE=text/html:You are cordially invited to the Leafie Mae Inclusive Playground Grand Opening to celebrate &quot\;A place in the heart of our city where everyone can play&quot\;
LOCATION:Harmon Park
UID:e.1404.3184
SEQUENCE:3
DTSTAMP:20260424T103745Z
URL:https://members.kearneycoc.org/events/details/ribbon-cutting-leafie-mae-inclusive-playground-05-06-2013-3184
END:VEVENT

END:VCALENDAR
