BEGIN:VCALENDAR
VERSION:2.0
PRODID:-//ChamberMaster//Event Calendar 2.0//EN
METHOD:PUBLISH
X-PUBLISHED-TTL:P3D
REFRESH-INTERVAL:P3D
CALSCALE:GREGORIAN
BEGIN:VEVENT
DTSTART:20130805T220000Z
DTEND:20130805T230000Z
X-MICROSOFT-CDO-ALLDAYEVENT:FALSE
SUMMARY:Ribbon Cutting: Loper Suites
DESCRIPTION:Join us for a Ribbon Cutting Ceremony for Loper Suites\, a new project by Kearney Community Development Associates\, LLC
X-ALT-DESC;FMTTYPE=text/html:Join us for a Ribbon Cutting Ceremony for Loper Suites\, a new project by Kearney Community Development Associates\, LLC
LOCATION:2215 15th Ave
UID:e.1404.3265
SEQUENCE:3
DTSTAMP:20260424T035832Z
URL:https://members.kearneycoc.org/events/details/ribbon-cutting-loper-suites-08-05-2013-3265
END:VEVENT

END:VCALENDAR
