BEGIN:VCALENDAR
VERSION:2.0
PRODID:-//ChamberMaster//Event Calendar 2.0//EN
METHOD:PUBLISH
X-PUBLISHED-TTL:P3D
REFRESH-INTERVAL:P3D
CALSCALE:GREGORIAN
BEGIN:VEVENT
DTSTART:20130711T170000Z
DTEND:20130711T180000Z
X-MICROSOFT-CDO-ALLDAYEVENT:FALSE
SUMMARY:Ribbon Cutting: McMeen Physical Therapy
DESCRIPTION:Join us for a Ribbon Cutting at McMeen Physical Therapy.  Lunch provided to attendees
X-ALT-DESC;FMTTYPE=text/html:Join us for a Ribbon Cutting at McMeen Physical Therapy. &nbsp\;Lunch provided to attendees
LOCATION:3811 Central Ave\, Suite F\, across the street to the south from Hobby Lobby/Hastings
UID:e.1404.3225
SEQUENCE:3
DTSTAMP:20260424T081546Z
URL:https://members.kearneycoc.org/events/details/ribbon-cutting-mcmeen-physical-therapy-07-11-2013-3225
END:VEVENT

END:VCALENDAR
