BEGIN:VCALENDAR
VERSION:2.0
PRODID:-//ChamberMaster//Event Calendar 2.0//EN
METHOD:PUBLISH
X-PUBLISHED-TTL:P3D
REFRESH-INTERVAL:P3D
CALSCALE:GREGORIAN
BEGIN:VEVENT
DTSTART:20130808T170000Z
DTEND:20130808T180000Z
X-MICROSOFT-CDO-ALLDAYEVENT:FALSE
SUMMARY:Ribbon Cutting: NebraskaLand National Bank
DESCRIPTION:Join us for a Ribbon Cutting Celebration for Kearney's newest bank\, NebraskaLand National Bank
X-ALT-DESC;FMTTYPE=text/html:Join us for a Ribbon Cutting Celebration for Kearney&#39\;s newest bank\, NebraskaLand National Bank
LOCATION:
UID:e.1404.3241
SEQUENCE:3
DTSTAMP:20260424T040107Z
URL:https://members.kearneycoc.org/events/details/ribbon-cutting-nebraskaland-national-bank-08-08-2013-3241
END:VEVENT

END:VCALENDAR
