BEGIN:VCALENDAR
VERSION:2.0
PRODID:-//ChamberMaster//Event Calendar 2.0//EN
METHOD:PUBLISH
X-PUBLISHED-TTL:P3D
REFRESH-INTERVAL:P3D
CALSCALE:GREGORIAN
BEGIN:VEVENT
DTSTART:20130425T220000Z
DTEND:20130426T000000Z
X-MICROSOFT-CDO-ALLDAYEVENT:FALSE
SUMMARY:Ribbon Cutting/Open House for Buzz's Marine
DESCRIPTION:Join us for a Ribbon Cutting/Open House as Buzz's Marine unveils their new show room (previously The Backlot).  Food & Drinks will be served
X-ALT-DESC;FMTTYPE=text/html:Join us for a Ribbon Cutting/Open House as Buzz&#39\;s Marine unveils their new show room (previously The Backlot). &nbsp\;Food &amp\; Drinks will be served
LOCATION:Buzz's Marine new showroom location\, next to their main showroom at 507 Central Ave
UID:e.1404.2256
SEQUENCE:3
DTSTAMP:20260424T142452Z
URL:https://members.kearneycoc.org/events/details/ribbon-cutting-open-house-for-buzz-s-marine-04-25-2013-2256
END:VEVENT

END:VCALENDAR
