BEGIN:VCALENDAR
VERSION:2.0
PRODID:-//ChamberMaster//Event Calendar 2.0//EN
METHOD:PUBLISH
X-PUBLISHED-TTL:P3D
REFRESH-INTERVAL:P3D
CALSCALE:GREGORIAN
BEGIN:VEVENT
DTSTART:20131114T230000Z
DTEND:20131115T010000Z
X-MICROSOFT-CDO-ALLDAYEVENT:FALSE
SUMMARY:Ribbon Cutting/Open House: Kearney Area Community Foundation
DESCRIPTION:Please join the Kearney Area Community Foundation as they celebrate their new location! There will be a wine tasting by Cedar Hills Vineyard
X-ALT-DESC;FMTTYPE=text/html:Please join the Kearney Area Community Foundation as they celebrate their new location! There will be a wine tasting by Cedar Hills Vineyard
LOCATION:412 West 48th Suite 12 Kearney\, NE
UID:e.1404.3332
SEQUENCE:3
DTSTAMP:20260423T231520Z
URL:https://members.kearneycoc.org/events/details/ribbon-cutting-open-house-kearney-area-community-foundation-11-14-2013-3332
END:VEVENT

END:VCALENDAR
