BEGIN:VCALENDAR
VERSION:2.0
PRODID:-//ChamberMaster//Event Calendar 2.0//EN
METHOD:PUBLISH
X-PUBLISHED-TTL:P3D
REFRESH-INTERVAL:P3D
CALSCALE:GREGORIAN
BEGIN:VEVENT
DTSTART:20130319T220000Z
DTEND:20130320T000000Z
X-MICROSOFT-CDO-ALLDAYEVENT:FALSE
SUMMARY:Ribbon Cutting/Open House: Kearney Pediatric Dentistry
DESCRIPTION:Join us for a ceremonial ribbon cutting at Kearney Pediatric Dentistry\, featuring Dr. Brett Carranza. \n\n\n\nDr. Carranza (Dr. Brett) received his dental degree from the University of Nebraska College of Dentistry.  Dr. Brett then completed a residency at the Oklahoma University (OU) Children's Hospital in Oklahoma City\, Oklahoma.  Following his residency at the OU Children's Hospital\, Dr. Brett then completed an additional two years of specialty training in pediatric dentistry at the University of California Los Angeles (UCLA).  Dr. Brett's postdoctoral training focused on the growth and development of infants\, children\, teens and patients with special health care needs.  He is a member of the Nebraska Dental Association the American Academy of Pediatric Dentistry and the American Dental Association.
X-ALT-DESC;FMTTYPE=text/html:<span style="font-size:16px\;"><span style="font-family: arial\;">Join us for a ceremonial ribbon cutting at Kearney Pediatric Dentistry\, featuring Dr. Brett Carranza.&nbsp\;<br />\n<br />\n<span style="line-height: 18.5px\;">Dr.&nbsp\;Carranza (Dr. Brett) received his dental degree from the University of Nebraska College of Dentistry.&nbsp\; Dr. Brett then completed a residency at the Oklahoma University (OU) Children&rsquo\;s Hospital in Oklahoma City\, Oklahoma.&nbsp\; Following his residency at the OU Children&rsquo\;s Hospital\, Dr. Brett then completed an additional two years of specialty training in pediatric dentistry at the University of California Los Angeles (UCLA).&nbsp\; Dr. Brett&rsquo\;s postdoctoral training focused on the growth and development of infants\, children\, teens and patients with special health care needs.&nbsp\; He is a member of the Nebraska Dental Association the American Academy of Pediatric Dentistry and the American Dental Association.</span>&nbsp\;</span></span>
LOCATION:Located at the old Schrock Chiropractic location at 218 W 39th Street
UID:e.1404.2242
SEQUENCE:3
DTSTAMP:20260424T140720Z
URL:https://members.kearneycoc.org/events/details/ribbon-cutting-open-house-kearney-pediatric-dentistry-03-19-2013-2242
END:VEVENT

END:VCALENDAR
