BEGIN:VCALENDAR
VERSION:2.0
PRODID:-//ChamberMaster//Event Calendar 2.0//EN
METHOD:PUBLISH
X-PUBLISHED-TTL:P3D
REFRESH-INTERVAL:P3D
CALSCALE:GREGORIAN
BEGIN:VEVENT
DTSTART:20131024T220000Z
DTEND:20131025T000000Z
X-MICROSOFT-CDO-ALLDAYEVENT:FALSE
SUMMARY:Ribbon Cutting/Open House: Suite Child (formerly Time for Baby)
DESCRIPTION:Join the Chamber in welcoming Jamie Frerichs to the Chamber community. Jamie is the new owner of Suite Child (formally Time for Baby). We will be cutting a Ribbon to officially change the name and ownership of the store. Drinks and appetizers will be served.
X-ALT-DESC;FMTTYPE=text/html:Join the Chamber in welcoming Jamie Frerichs to the Chamber community. Jamie is the new owner of Suite Child (formally Time for Baby). We will be cutting a Ribbon to officially change the name and ownership of the store. Drinks and appetizers will be served.&nbsp\;
LOCATION:2304 Central Ave Kearney\, NE
UID:e.1404.3310
SEQUENCE:3
DTSTAMP:20260424T003810Z
URL:https://members.kearneycoc.org/events/details/ribbon-cutting-open-house-suite-child-formerly-time-for-baby-10-24-2013-3310
END:VEVENT

END:VCALENDAR
