BEGIN:VCALENDAR
VERSION:2.0
PRODID:-//ChamberMaster//Event Calendar 2.0//EN
METHOD:PUBLISH
X-PUBLISHED-TTL:P3D
REFRESH-INTERVAL:P3D
CALSCALE:GREGORIAN
BEGIN:VEVENT
DTSTART:20130620T220000Z
DTEND:20130620T230000Z
X-MICROSOFT-CDO-ALLDAYEVENT:FALSE
SUMMARY:Ribbon Cutting: Papeleria
DESCRIPTION:Join the Kearney Chamber and Papeleria for a Ribbon Cutting/Open House Ceremony tonight from 4-8pm.  The Ribbon Cutting will take place shortly after 5pm at 12 E Railroad Street in Downtown Kearney.  \n\n\n\nEnjoy a lemonade and shop with family & friends at Kearney's newest paper/stationary/design store
X-ALT-DESC;FMTTYPE=text/html:Join the Kearney Chamber and Papeleria&nbsp\;for a Ribbon Cutting/Open House Ceremony tonight from 4-8pm. &nbsp\;The Ribbon Cutting will take place shortly after 5pm&nbsp\;at 12 E Railroad Street in Downtown Kearney. &nbsp\;<br />\n<br />\nEnjoy a lemonade and shop with family &amp\; friends at Kearney&#39\;s newest paper/stationary/design store
LOCATION:12 East Railroad
UID:e.1404.3198
SEQUENCE:3
DTSTAMP:20260424T081441Z
URL:https://members.kearneycoc.org/events/details/ribbon-cutting-papeleria-06-20-2013-3198
END:VEVENT

END:VCALENDAR
