BEGIN:VCALENDAR
VERSION:2.0
PRODID:-//ChamberMaster//Event Calendar 2.0//EN
METHOD:PUBLISH
X-PUBLISHED-TTL:P3D
REFRESH-INTERVAL:P3D
CALSCALE:GREGORIAN
BEGIN:VEVENT
DTSTART:20130607T150000Z
DTEND:20130607T160000Z
X-MICROSOFT-CDO-ALLDAYEVENT:FALSE
SUMMARY:Ribbon Cutting: R.Y.D.E. Transit
DESCRIPTION:Join us for a ceremonial Ribbon Cutting for R.Y.D.E. Transit's brand new facility on 715 East 11th Street.\n\n\n\nRefreshments will be provided.\n\n\n\nA community Open House will take place on Saturday from 9am-noon
X-ALT-DESC;FMTTYPE=text/html:Join us for a ceremonial Ribbon Cutting for R.Y.D.E. Transit&#39\;s brand new facility on 715 East 11th Street.<br />\n<br />\nRefreshments will be provided.<br />\n<br />\nA community Open House will take place on Saturday from 9am-noon
LOCATION:715 East 11th Street
UID:e.1404.3190
SEQUENCE:3
DTSTAMP:20260424T081235Z
URL:https://members.kearneycoc.org/events/details/ribbon-cutting-r-y-d-e-transit-06-07-2013-3190
END:VEVENT

END:VCALENDAR
