BEGIN:VCALENDAR
VERSION:2.0
PRODID:-//ChamberMaster//Event Calendar 2.0//EN
METHOD:PUBLISH
X-PUBLISHED-TTL:P3D
REFRESH-INTERVAL:P3D
CALSCALE:GREGORIAN
BEGIN:VEVENT
DTSTART:20130408T170000Z
DTEND:20130408T180000Z
X-MICROSOFT-CDO-ALLDAYEVENT:FALSE
SUMMARY:Ribbon Cutting: RCI Roofing Supply Co
DESCRIPTION:Join us for a Ribbon Cutting/Lunch for RCI Roofing & Supply Co\, located south of Kearney at 2029 25 Road (The Londers Auction Building)
X-ALT-DESC;FMTTYPE=text/html:Join us for a Ribbon Cutting/Lunch for RCI Roofing &amp\; Supply Co\, located south of Kearney at 2029 25 Road (The Londers Auction Building)
LOCATION:2029 25 Road (1 mile south of town in the Londer's Auction Building)
UID:e.1404.2261
SEQUENCE:3
DTSTAMP:20260424T122659Z
URL:https://members.kearneycoc.org/events/details/ribbon-cutting-rci-roofing-supply-co-04-08-2013-2261
END:VEVENT

END:VCALENDAR
