BEGIN:VCALENDAR
VERSION:2.0
PRODID:-//ChamberMaster//Event Calendar 2.0//EN
METHOD:PUBLISH
X-PUBLISHED-TTL:P3D
REFRESH-INTERVAL:P3D
CALSCALE:GREGORIAN
BEGIN:VEVENT
DTSTART:20160108T160000Z
DTEND:20160108T163000Z
X-MICROSOFT-CDO-ALLDAYEVENT:FALSE
SUMMARY:Ribbon Cutting: Shatter Masters
DESCRIPTION:Join us for a Ribbon Cutting Ceremony for the new business\, Shatter Masters. They are a wholesale mobile device repair shop and fix iPhone\,iPod\,iPads in Kearney. Owner\, John Jochum started this business in high school and now has a new space for you to take your device in to for repairs.
X-ALT-DESC;FMTTYPE=text/html:Join us for a Ribbon Cutting Ceremony for the new business\, Shatter Masters. They are a wholesale mobile device repair shop and fix iPhone\,iPod\,iPads in Kearney. Owner\, John Jochum started this business in high school and now has a new space for you to take your device in to for repairs.
LOCATION:1324 2nd Ave. Ste B
UID:e.1404.7244
SEQUENCE:3
DTSTAMP:20260422T032144Z
URL:https://members.kearneycoc.org/events/details/ribbon-cutting-shatter-masters-01-08-2016-7244
END:VEVENT

END:VCALENDAR
