BEGIN:VCALENDAR
VERSION:2.0
PRODID:-//ChamberMaster//Event Calendar 2.0//EN
METHOD:PUBLISH
X-PUBLISHED-TTL:P3D
REFRESH-INTERVAL:P3D
CALSCALE:GREGORIAN
BEGIN:VEVENT
DTSTART:20120912T220000Z
DTEND:20120912T230000Z
X-MICROSOFT-CDO-ALLDAYEVENT:FALSE
SUMMARY:Ribbon Cutting: Studio B Design
DESCRIPTION:Join us for Studio B Design's Grand Opening Ribbon Cutting Ceremony\, starting at 5:00 PM.  Refreshments will be served and tours of the store will be given
X-ALT-DESC;FMTTYPE=text/html:Join us for Studio B Design&#39\;s Grand Opening Ribbon Cutting Ceremony\, starting at 5:00 PM.&nbsp\; Refreshments will be served and tours of the store will be given
LOCATION:8 West 56th Street\, Suite B2 South
UID:e.1404.2168
SEQUENCE:3
DTSTAMP:20260425T002136Z
URL:https://members.kearneycoc.org/events/details/ribbon-cutting-studio-b-design-09-12-2012-2168
END:VEVENT

END:VCALENDAR
