BEGIN:VCALENDAR
VERSION:2.0
PRODID:-//ChamberMaster//Event Calendar 2.0//EN
METHOD:PUBLISH
X-PUBLISHED-TTL:P3D
REFRESH-INTERVAL:P3D
CALSCALE:GREGORIAN
BEGIN:VEVENT
DTSTART;VALUE=DATE:20130419
DTEND;VALUE=DATE:20130420
TRANSP:TRANSPARENT
X-MICROSOFT-CDO-ALLDAYEVENT:TRUE
SUMMARY:Ribbon Cutting: Talbitzer Chiropractic
DESCRIPTION:Join us for a Ribbon Cutting for one of Kearney's newest chiropractors\, Dr. Trenton Talbitzer.  A light lunch and refreshments will be provided to all attendees.
X-ALT-DESC;FMTTYPE=text/html:Join us for a Ribbon Cutting for one of Kearney&#39\;s newest chiropractors\, Dr. Trenton Talbitzer. &nbsp\;A light lunch and refreshments will be provided to all attendees.&nbsp\;
LOCATION:215 W 29th Street\, Suite A
UID:e.1404.2511
SEQUENCE:3
DTSTAMP:20260424T122424Z
URL:https://members.kearneycoc.org/events/details/ribbon-cutting-talbitzer-chiropractic-04-19-2013-2511
END:VEVENT

END:VCALENDAR
