BEGIN:VCALENDAR
VERSION:2.0
PRODID:-//ChamberMaster//Event Calendar 2.0//EN
METHOD:PUBLISH
X-PUBLISHED-TTL:P3D
REFRESH-INTERVAL:P3D
CALSCALE:GREGORIAN
BEGIN:VEVENT
DTSTART:20140127T223000Z
DTEND:20140127T233000Z
X-MICROSOFT-CDO-ALLDAYEVENT:FALSE
SUMMARY:Ribbon Cutting: The New Hampton Inn
DESCRIPTION:Please join us for a ribbon cutting at the New Hampton Inn. Light refreshments will be served and property tours will be available. \n\n\n\nGovernor Dave Heineman will be in attendance and will say a few words.
X-ALT-DESC;FMTTYPE=text/html:Please join us for a ribbon cutting at the New Hampton Inn. Light refreshments will be served and property tours will be available.&nbsp\;<br />\n<br />\n<span style="font-family:arial\,sans-serif\;"><span style="font-size:9.0pt\;">Governor Dave Heineman&nbsp\;will be in attendance&nbsp\;and will say a few words.&nbsp\;</span></span><br />\n
LOCATION:Hampton Inn 507 Talmadge St Kearney\, NE
UID:e.1404.4476
SEQUENCE:3
DTSTAMP:20260423T195634Z
URL:https://members.kearneycoc.org/events/details/ribbon-cutting-the-new-hampton-inn-01-27-2014-4476
END:VEVENT

END:VCALENDAR
