BEGIN:VCALENDAR
VERSION:2.0
PRODID:-//ChamberMaster//Event Calendar 2.0//EN
METHOD:PUBLISH
X-PUBLISHED-TTL:P3D
REFRESH-INTERVAL:P3D
CALSCALE:GREGORIAN
BEGIN:VEVENT
DTSTART:20121119T230000Z
DTEND:20121120T000000Z
X-MICROSOFT-CDO-ALLDAYEVENT:FALSE
SUMMARY:Ribbon Cutting: TM Sporting Goods
DESCRIPTION:Join us for a Ribbon Cutting Ceremony at Kearney's newest sporting goods store\, TM Sporting Goods
X-ALT-DESC;FMTTYPE=text/html:Join us for a Ribbon Cutting Ceremony at Kearney&#39\;s newest sporting goods store\, TM Sporting Goods
LOCATION:Located in Downtown Kearney\, "The Bricks" at 2217 Central Ave
UID:e.1404.2208
SEQUENCE:3
DTSTAMP:20260424T223525Z
URL:https://members.kearneycoc.org/events/details/ribbon-cutting-tm-sporting-goods-11-19-2012-2208
END:VEVENT

END:VCALENDAR
