BEGIN:VCALENDAR
VERSION:2.0
PRODID:-//ChamberMaster//Event Calendar 2.0//EN
METHOD:PUBLISH
X-PUBLISHED-TTL:P3D
REFRESH-INTERVAL:P3D
CALSCALE:GREGORIAN
BEGIN:VEVENT
DTSTART:20140212T230000Z
DTEND:20140213T000000Z
X-MICROSOFT-CDO-ALLDAYEVENT:FALSE
SUMMARY:Ribbon Cutting: Vintage Title & Escrow Co.
DESCRIPTION:Join us for a Ribbon Cutting at Vintage Title & Escrow Co. to help welcome the new owner Andrew Romatzke to the Chamber and community! We will also be celebrating Julie Hoppe's retirement. \n\n\n\nFood and beverages will be served!
X-ALT-DESC;FMTTYPE=text/html:<span style="font-family: Arial\;">Join us for a Ribbon Cutting at Vintage Title &amp\; Escrow Co. to help welcome the new owner Andrew&nbsp\;</span>Romatzke<span style="font-family: Arial\;">&nbsp\;to the Chamber and community! We will also be celebrating Julie&nbsp\;</span>Hoppe&#39\;s<span style="font-family: Arial\;">&nbsp\;retirement.&nbsp\;</span><br style="font-family: Arial\;" />\n<br style="font-family: Arial\;" />\n<span style="font-family: Arial\;">Food and beverages will be served! &nbsp\;</span>
LOCATION:204 E 25th Street\, Suite 1
UID:e.1404.4430
SEQUENCE:3
DTSTAMP:20260423T181241Z
URL:https://members.kearneycoc.org/events/details/ribbon-cutting-vintage-title-escrow-co-02-12-2014-4430
END:VEVENT

END:VCALENDAR
