BEGIN:VCALENDAR
VERSION:2.0
PRODID:-//ChamberMaster//Event Calendar 2.0//EN
METHOD:PUBLISH
X-PUBLISHED-TTL:P3D
REFRESH-INTERVAL:P3D
CALSCALE:GREGORIAN
BEGIN:VEVENT
DTSTART:20160120T160000Z
DTEND:20160120T163000Z
X-MICROSOFT-CDO-ALLDAYEVENT:FALSE
SUMMARY:Ribbon Cutting: Waddell & Reed
DESCRIPTION:Join us in a Ribbon Cutting Ceremony for the new office space for Waddell & Reed!
X-ALT-DESC;FMTTYPE=text/html:Join us in a Ribbon Cutting Ceremony for the new office space for Waddell &amp\; Reed!
LOCATION:2217 1st Avenue
UID:e.1404.7243
SEQUENCE:3
DTSTAMP:20260422T050443Z
URL:https://members.kearneycoc.org/events/details/ribbon-cutting-waddell-reed-01-20-2016-7243
END:VEVENT

END:VCALENDAR
