BEGIN:VCALENDAR
VERSION:2.0
PRODID:-//ChamberMaster//Event Calendar 2.0//EN
METHOD:PUBLISH
X-PUBLISHED-TTL:P3D
REFRESH-INTERVAL:P3D
CALSCALE:GREGORIAN
BEGIN:VEVENT
DTSTART:20120918T220000Z
DTEND:20120918T230000Z
X-MICROSOFT-CDO-ALLDAYEVENT:FALSE
SUMMARY:Ribbon Cutting: YMCA Family Center
DESCRIPTION:The YMCA will host a ribbon cutting to show off their new Family Center as well as a newly remodeled cardio center
X-ALT-DESC;FMTTYPE=text/html:The YMCA will host a ribbon cutting to show off their new Family Center as well as a newly remodeled cardio center
LOCATION:Kearney Family YMCA
UID:e.1404.1938
SEQUENCE:3
DTSTAMP:20260425T002500Z
URL:https://members.kearneycoc.org/events/details/ribbon-cutting-ymca-family-center-09-18-2012-1938
END:VEVENT

END:VCALENDAR
