BEGIN:VCALENDAR
VERSION:2.0
PRODID:-//ChamberMaster//Event Calendar 2.0//EN
METHOD:PUBLISH
X-PUBLISHED-TTL:P3D
REFRESH-INTERVAL:P3D
CALSCALE:GREGORIAN
BEGIN:VEVENT
DTSTART:20160213T020000Z
DTEND:20160213T030000Z
X-MICROSOFT-CDO-ALLDAYEVENT:FALSE
SUMMARY:Richard Marx
DESCRIPTION:As a performer\, songwriter\, and producer\, Richard Marx's nearly three-decade-long career has had innumerable highlights. The Chicago native has sold more than 30 million albums worldwide\, starting with his self-titled debut which spawned four Top 5 singles including "Endless Summer Nights" and the chart-topping "Hold on to the Nights"\, with "Don't Mean Nothing" earning him a Grammy nomination for Best Male Rock Vocal Performance in 1988.
X-ALT-DESC;FMTTYPE=text/html:As a performer\, songwriter\, and producer\, Richard Marx&#39\;s nearly three-decade-long career has had innumerable highlights. The Chicago native has sold more than 30 million albums worldwide\, starting with his self-titled debut which spawned four Top 5 singles including &quot\;Endless Summer Nights&quot\; and the chart-topping &quot\;Hold on to the Nights&quot\;\, with &quot\;Don&#39\;t Mean Nothing&quot\; earning him a Grammy nomination for Best Male Rock Vocal Performance in 1988.
LOCATION:Merryman Performing Arts Center
UID:e.1404.7040
SEQUENCE:3
DTSTAMP:20260422T011949Z
URL:https://members.kearneycoc.org/events/details/richard-marx-02-12-2016-7040
END:VEVENT

END:VCALENDAR
