BEGIN:VCALENDAR
VERSION:2.0
PRODID:-//ChamberMaster//Event Calendar 2.0//EN
METHOD:PUBLISH
X-PUBLISHED-TTL:P3D
REFRESH-INTERVAL:P3D
CALSCALE:GREGORIAN
BEGIN:VEVENT
DTSTART:20190804T170000Z
DTEND:20190805T030000Z
X-MICROSOFT-CDO-ALLDAYEVENT:FALSE
SUMMARY:Rise Above the Water
DESCRIPTION:As a community of music lovers\, we want to help those less fortunate "Replace and Rebuild" their homes and lives\, after this monumental event that impacted our family\, friends\, and neighbors!! "Rise Above the Water" is being organized to raise money for those in need of materials and assistance. Our hearts go out to those who have no insurance\, funds\, or have been affected by devastating flood waters for a second time.\n\n \n\nOur mission is to help relieve some of the financial burden to keep our communities strong. We also feel everyone needs a day to relax and come together\, to start the process of healing and rebuilding. We are asking for donations from local businesses\, in any amount. These donations will be used to help cover cost\, as well as go towards the fund for all those who need help. If you have any ideas please feel free to reach out to us\, we welcome all help. There is always a need for volunteers and ideas.\n\n \n\nWe are partnering with the United Way of the Kearney Area to distribute the money. JD's is the lead on this event and Viaero Center is donating their facilities. The bands are donating their time and food vendors are giving a portion of their sales to the fund. Sure Sound\, a professional sound company will be donating the stage\, lights\, and sound. A committee made up of radio personnel\, band members\, and other professionals are helping to put on this great event! This will be a day of coming together for the greater good of our neighbors and friends.\n\n \n\nIf you wish to donate or have questions please contact:\n\nTeena Fedorchik: 308-370-2772 | JJ Stover: 308-440-9244\n\n \n\nMake Checks out to:\n\nUnited Way of the Kearney Area \n\nindicate "Rise Above the Water Benefit" in the memo\n\n \n\nMail checks to:\n\nRise Above the Water Benefit C/O JD's\n\n2023 1st Ave\n\nKearney\, NE 68845
X-ALT-DESC;FMTTYPE=text/html:<span style="color:#4C4C4C\;"><span style="font-family:arial\,sans-serif\;"><span style="font-size:10.5pt\;">As a community of music lovers\, we want to help those less fortunate &ldquo\;</span></span></span><strong><span style="color:#523182\;"><span style="font-family:arial\,sans-serif\;"><span style="font-size:10.5pt\;">Replace and Rebuild</span></span></span></strong><span style="color:#4C4C4C\;"><span style="font-family:arial\,sans-serif\;"><span style="font-size:10.5pt\;">&rdquo\; their homes and lives\, after this monumental event that impacted our family\, friends\, and neighbors!! &ldquo\;</span></span></span><strong><span style="color:#523182\;"><span style="font-family:arial\,sans-serif\;"><span style="font-size:10.5pt\;">Rise Above the Water</span></span></span></strong><span style="color:#4C4C4C\;"><span style="font-family:arial\,sans-serif\;"><span style="font-size:10.5pt\;">&rdquo\; is being organized to raise money for those in need of materials and assistance. Our hearts go out to those who have no insurance\, funds\, or have been affected by devastating flood waters for a second time.</span></span></span><br />\n&nbsp\;<br />\n<span style="color:#4C4C4C\;"><span style="font-family:arial\,sans-serif\;"><span style="font-size:10.5pt\;">Our mission is to help relieve some of the financial burden to keep our communities strong. We also feel everyone needs a day to relax and come together\, to start the process of healing and rebuilding. We are asking for donations from local businesses\, in any amount. These donations will be used to help cover cost\, as well as go towards the fund for all those who need help. If you have any ideas please feel free to reach out to us\, we welcome all help. There is always a need for volunteers and ideas.</span></span></span><br />\n&nbsp\;<br />\n<span style="color:#4C4C4C\;"><span style="font-family:arial\,sans-serif\;"><span style="font-size:10.5pt\;">We are partnering with the United Way of the Kearney Area to distribute the money. JD&rsquo\;s is the lead on this event and Viaero Center is donating their facilities. The bands are donating their time and food vendors are giving a portion of their sales to the fund. Sure Sound\, a professional sound company will be donating the stage\, lights\, and sound. A committee made up of radio personnel\, band members\, and other professionals are helping to put on this great event! This will be a day of coming together for the greater good of our neighbors and friends.</span></span></span><br />\n&nbsp\;<br />\n<strong><span style="color:#4C4C4C\;"><span style="font-family:arial\,sans-serif\;"><span style="font-size:10.5pt\;">If you wish to donate or have questions please contact:</span></span></span></strong><br />\n<span style="color:#4C4C4C\;"><span style="font-family:arial\,sans-serif\;"><span style="font-size:10.5pt\;">Teena Fedorchik: 308-370-2772 | JJ Stover: 308-440-9244</span></span></span><br />\n&nbsp\;<br />\n<strong><span style="color:#4C4C4C\;"><span style="font-family:arial\,sans-serif\;"><span style="font-size:10.5pt\;">Make Checks out to:</span></span></span></strong><br />\n<span style="color:#4C4C4C\;"><span style="font-family:arial\,sans-serif\;"><span style="font-size:10.5pt\;">United Way of the Kearney Area </span></span></span><br />\n<span style="color:#4C4C4C\;"><span style="font-family:arial\,sans-serif\;"><span style="font-size:10.5pt\;">indicate &ldquo\;Rise Above the Water Benefit&rdquo\; in the memo</span></span></span><br />\n&nbsp\;<br />\n<strong><span style="color:#4C4C4C\;"><span style="font-family:arial\,sans-serif\;"><span style="font-size:10.5pt\;">Mail checks to:</span></span></span></strong><br />\n<span style="color:#4C4C4C\;"><span style="font-family:arial\,sans-serif\;"><span style="font-size:10.5pt\;">Rise Above the Water Benefit C/O JD&rsquo\;s</span></span></span><br />\n<span style="color:#4C4C4C\;"><span style="font-family:arial\,sans-serif\;"><span style="font-size:10.5pt\;">2023 1st Ave</span></span></span><br />\n<span style="color:#4C4C4C\;"><span style="font-family:arial\,sans-serif\;"><span style="font-size:10.5pt\;">Kearney\, NE 68845</span></span></span>
LOCATION:Viaero Center 609 Platte Road
UID:e.1404.16595
SEQUENCE:3
DTSTAMP:20260425T195248Z
URL:https://members.kearneycoc.org/events/details/rise-above-the-water-16595
END:VEVENT

END:VCALENDAR
