BEGIN:VCALENDAR
VERSION:2.0
PRODID:-//ChamberMaster//Event Calendar 2.0//EN
METHOD:PUBLISH
X-PUBLISHED-TTL:P3D
REFRESH-INTERVAL:P3D
CALSCALE:GREGORIAN
BEGIN:VEVENT
DTSTART:20150322T190000Z
DTEND:20150322T200000Z
X-MICROSOFT-CDO-ALLDAYEVENT:FALSE
SUMMARY:Robert Ramsay Livingston\, MD presented by John Schleicher and sponsored by Hum
DESCRIPTION:Dr. Livingston of Plattsmouth\, one of the outstanding pioneer figures in Nebraska medicine. Livingston began practicing medicine in Plattsmouth in 1859\, captained the First Nebraska Volunteer Infantry during the Civil War\, helped organize the Nebraska State Medical Society and was one of the first delegates from Nebraska to the American Medical Association. He also served as Chief Surgeon of the Burlington Railroad in Nebraska\, Mayor of Plattsmouth\, and President of the Faculty of the Omaha Medical College. Admission is free
X-ALT-DESC;FMTTYPE=text/html:Dr. Livingston of Plattsmouth\, one of the outstanding pioneer figures in Nebraska medicine. Livingston began practicing medicine in Plattsmouth in 1859\, captained the First Nebraska Volunteer Infantry during the Civil War\, helped organize the Nebraska State Medical Society and was one of the first delegates from Nebraska to the American Medical Association. He also served as Chief Surgeon of the Burlington Railroad in Nebraska\, Mayor of Plattsmouth\, and President of the Faculty of the Omaha Medical College. Admission is free
LOCATION:Nebraska Firefighters Museum 2434 E. 1st Street\, Kearney
UID:e.1404.6163
SEQUENCE:3
DTSTAMP:20260422T200417Z
URL:https://members.kearneycoc.org/events/details/robert-ramsay-livingston-md-presented-by-john-schleicher-and-sponsored-by-hum-03-22-2015-6163
END:VEVENT

END:VCALENDAR
