BEGIN:VCALENDAR
VERSION:2.0
PRODID:-//ChamberMaster//Event Calendar 2.0//EN
METHOD:PUBLISH
X-PUBLISHED-TTL:P3D
REFRESH-INTERVAL:P3D
CALSCALE:GREGORIAN
BEGIN:VEVENT
DTSTART:20120720T010000Z
DTEND:20120720T024500Z
X-MICROSOFT-CDO-ALLDAYEVENT:FALSE
SUMMARY:ROCK LEGENDS Cruise Weekend Kick Off Concert
DESCRIPTION:Part Rock Concert.. Part CLASSIC  Rock Tribute... All Rock `N ` Roll!\n\n	\n\n	ROCK LEGENDS combines all of these elements for a unique revue created by Cruise Weekend favorite Billy McGuigan(RAVE ON\, YESTERDAY AND TODAY)   Audiences are given the opportunity to customize their own rock concert as the show is happening!  Vote for your favorite rock legends- ranging from Elton John and Billy Joel- to Buddy Holly and Elvis to The Beatles  and The Rolling Stones (to name a few)
X-ALT-DESC;FMTTYPE=text/html:<p>\n	Part Rock Concert.. Part CLASSIC &nbsp\;Rock Tribute... All Rock `N ` Roll!<br />\n	<br />\n	ROCK LEGENDS combines all of these elements for a unique revue created by Cruise Weekend favorite Billy McGuigan(RAVE ON\, YESTERDAY AND TODAY) &nbsp\; Audiences are given the opportunity to customize their own rock concert as the show is happening!&nbsp\; Vote for your favorite rock legends- ranging from Elton John and Billy Joel- to Buddy Holly and Elvis to The Beatles &nbsp\;and The Rolling Stones (to name a few)</p>\n
LOCATION:Merryman Performing Arts Center 225 West 22nd Street
UID:e.1404.1941
SEQUENCE:3
DTSTAMP:20260425T033159Z
URL:https://members.kearneycoc.org/events/details/rock-legends-cruise-weekend-kick-off-concert-07-19-2012-1941
END:VEVENT

END:VCALENDAR
