BEGIN:VCALENDAR
VERSION:2.0
PRODID:-//ChamberMaster//Event Calendar 2.0//EN
METHOD:PUBLISH
X-PUBLISHED-TTL:P3D
REFRESH-INTERVAL:P3D
CALSCALE:GREGORIAN
BEGIN:VEVENT
DTSTART:20150418T150000Z
DTEND:20150418T180000Z
X-MICROSOFT-CDO-ALLDAYEVENT:FALSE
SUMMARY:Rodan + Fields
DESCRIPTION:Rodan + Feilds The doctors who created Proactiv Solution for teenage acne now have a new line for anti-aging and sun damage\, if your interested in product or a business opportunity come see what the buzz is about with Rodan + Fields we are making top ten lists everywhere and are the 4th leading in skin care behind Lancome\, Estee Lauder and Clinique.
X-ALT-DESC;FMTTYPE=text/html:Rodan + Feilds The doctors who created Proactiv Solution for teenage acne now have a new line for anti-aging and sun damage\, if your interested in product or a business opportunity come see what the buzz is about with Rodan + Fields we are making top ten lists everywhere and are the 4th leading in skin care behind Lancome\, Estee Lauder and Clinique.
LOCATION:Message me for location. sassiecassie74@gmail.com
UID:e.1404.6218
SEQUENCE:3
DTSTAMP:20260422T182059Z
URL:https://members.kearneycoc.org/events/details/rodan-fields-04-18-2015-6218
END:VEVENT

END:VCALENDAR
