BEGIN:VCALENDAR
VERSION:2.0
PRODID:-//ChamberMaster//Event Calendar 2.0//EN
METHOD:PUBLISH
X-PUBLISHED-TTL:P3D
REFRESH-INTERVAL:P3D
CALSCALE:GREGORIAN
BEGIN:VEVENT
DTSTART:20150323T210000Z
DTEND:20150324T010000Z
X-MICROSOFT-CDO-ALLDAYEVENT:FALSE
SUMMARY:Rotary Club Spaghetti Feed
DESCRIPTION:Serving at the Ramada Inn\, sponsored by the Dawn and Noon Rotary
X-ALT-DESC;FMTTYPE=text/html:Serving at the Ramada Inn\, sponsored by the Dawn and Noon Rotary
LOCATION:Ramada Inn
UID:e.1404.5987
SEQUENCE:3
DTSTAMP:20260422T225644Z
URL:https://members.kearneycoc.org/events/details/rotary-club-spaghetti-feed-03-23-2015-5987
END:VEVENT

END:VCALENDAR
