BEGIN:VCALENDAR
VERSION:2.0
PRODID:-//ChamberMaster//Event Calendar 2.0//EN
METHOD:PUBLISH
X-PUBLISHED-TTL:P3D
REFRESH-INTERVAL:P3D
CALSCALE:GREGORIAN
BEGIN:VEVENT
DTSTART:20190406T230000Z
DTEND:20190407T020000Z
X-MICROSOFT-CDO-ALLDAYEVENT:FALSE
SUMMARY:S.A.F.E. Center Purse Auction
DESCRIPTION:You are cordially invited to The S.A.F.E. Center's Purses for a Purpose! Envoy the benefit auction\, dinner\, dessert and cash bar.
X-ALT-DESC;FMTTYPE=text/html:You are cordially invited to The S.A.F.E. Center&#39\;s Purses for a Purpose! Envoy the benefit auction\, dinner\, dessert and cash bar.&nbsp\;
LOCATION:Younes Conference Center 416 W Talmadge Rd
UID:e.1404.14211
SEQUENCE:3
DTSTAMP:20260426T020718Z
URL:https://members.kearneycoc.org/events/details/s-a-f-e-center-purse-auction-14211
END:VEVENT

END:VCALENDAR
