BEGIN:VCALENDAR
VERSION:2.0
PRODID:-//ChamberMaster//Event Calendar 2.0//EN
METHOD:PUBLISH
X-PUBLISHED-TTL:P3D
REFRESH-INTERVAL:P3D
CALSCALE:GREGORIAN
BEGIN:VEVENT
DTSTART:20140712T130000Z
DTEND:20140712T230000Z
X-MICROSOFT-CDO-ALLDAYEVENT:FALSE
SUMMARY:Safe Center Meets Team USA
DESCRIPTION:This is a two-fold event: 1st is to help raise money and collect general toiletry items for the SAFE Center. 2nd is to help offset expenses for Dante Rodriguez's family to travel to Croatia to watch him compete at Junior World's Wrestling for Team USA. \n\n\n\nThe event is FREE and open to everyone! \n\n\n\nActivities all day: Bouncy House and Rock Climbing Wall for people of all ages (donated by Sozo)! Autograph and pictures with the athletes.\n\n\n\nFood: All food provided by Sozo. Great food\, low prices. All proceeds go to the SAFE Center.\n\n\n\nFree Door Prizes all day!\n\n\n\nRaffle tickets for purchase. Grand Prizes include a 1/2 beef and processing\, 50" t.v.\, and Husker football tickets to the Miami Game! \n\n\n\nDoors open at 8:00 am with coffee and breakfast provided by Sozo\n\n\n\n10:00 am-12:00 pm: Marines vs Army/National Guard Fitness Competition. 24 vs 24. It all kicks off with the National Anthem at 10:00. Come cheer on your military!\n\n\n\n12:15: Thank you from the SAFE Center\n\n\n\n1:00 pm - 4:00 pm: Wrestling drills and skills with Team USA's Dante Rodriguez and other National Champion and All-American wrestlers. This is open to kids and teens of all ages. Every 30 mins a new session will start.\n\n\n\n1:00 pm - 4:00 pm: CrossFit Workouts. Come workout and be coached by our staff! 3 different and unique workouts with a new one starting each hour.\n\n\n\n4:00-6:00 pm: Social to hang out with everyone (no alcohol).\n\n\n\nSponsors: Kearney CrossFit\, Sozo\, Sporting Edge and Sports Village\, American Real Estate & Associates\, Copycat Printing\, Sweetwater Cattle Co\, Pat and Libby Merrifield\, Dad's Tavern\n\n\n\nDetails and more info: (308) 440-0241. www.kearneycrossfit.com.kearneycrossfit@gmail.com
X-ALT-DESC;FMTTYPE=text/html:<p class="MsoNormal"><span style="font-size: 10.5pt\; line-height: 107%\; font-family: Helvetica\, sans-serif\; color: rgb(20\, 24\, 35)\; background-image: initial\; background-attachment: initial\; background-size: initial\; background-origin: initial\; background-clip: initial\; background-position: initial\; background-repeat: initial\;">This is a two-fold event: 1st is to help raise money and collect general toiletry items for the SAFE Center. 2nd is to help offset expenses for Dante Rodriguez&#39\;s family to travel to Croatia to watch him compete at Junior World&#39\;s Wrestling for Team USA.<span class="apple-converted-space">&nbsp\;</span></span><br />\n<br />\n<span style="font-size:10.5pt\;line-height:107%\;font-family:&quot\;Helvetica&quot\;\,&quot\;sans-serif&quot\;\;\ncolor:#141823"><span style="background-image: initial\; background-attachment: initial\; background-size: initial\; background-origin: initial\; background-clip: initial\; background-position: initial\; background-repeat: initial\;">The event is FREE and open to everyone!<span class="apple-converted-space">&nbsp\;</span></span><br />\n<br />\n<span style="background-image: initial\; background-attachment: initial\; background-size: initial\; background-origin: initial\; background-clip: initial\; background-position: initial\; background-repeat: initial\;">Activities all day: Bou<span class="textexposedshow">ncy House and Rock Climbing Wall for people of all ages (donated by Sozo)! Autograph and pictures with the athletes.<br />\n<br />\n<span class="textexposedshow">Food: All food provided by Sozo. Great food\, low prices. All proceeds go to the SAFE Center.</span><br />\n<br />\n<span class="textexposedshow">Free Door Prizes all day!</span><br />\n<br />\n<span class="textexposedshow">Raffle tickets for purchase. Grand Prizes include a 1/2 beef and processing\, 50&quot\; t.v.\, and Husker football tickets to the Miami Game!</span><span class="apple-converted-space">&nbsp\;</span><br />\n<br />\n<span class="textexposedshow">Doors open at 8:00 am with coffee and breakfast provided by Sozo</span><br />\n<br />\n<span class="textexposedshow">10:00 am-12:00 pm: Marines vs Army/National Guard Fitness Competition. 24 vs 24. It all kicks off with the National Anthem at 10:00. Come cheer on your military!</span><br />\n<br />\n<span class="textexposedshow">12:15: Thank you from the SAFE Center</span><br />\n<br />\n<span class="textexposedshow">1:00 pm - 4:00 pm: Wrestling drills and skills with Team USA&#39\;s Dante Rodriguez and other National Champion and All-American wrestlers. This is open to kids and teens of all ages. Every 30 mins a new session will start.</span><br />\n<br />\n<span class="textexposedshow">1:00 pm - 4:00 pm: CrossFit Workouts. Come workout and be coached by our staff! 3 different and unique workouts with a new one starting each hour.</span><br />\n<br />\n<span class="textexposedshow">4:00-6:00 pm: Social to hang out with everyone (no alcohol).</span><br />\n<br />\n<span class="textexposedshow">Sponsors: Kearney CrossFit\, Sozo\, Sporting Edge and Sports Village\, American Real Estate &amp\; Associates\, Copycat Printing\, Sweetwater Cattle Co\, Pat and Libby Merrifield\, Dad&#39\;s Tavern</span><br />\n<br />\n<span class="textexposedshow">Details and more info: (308) 440-0241.</span><span class="apple-converted-space">&nbsp\;</span><span class="textexposedshow"><a href="http://www.kearneycrossfit.com/" style="cursor:pointer" target="_blank"><span style="color:#3B5998\;text-decoration:none\;text-underline:none">www.kearneycrossfit.com.</span></a>kearneycrossfit@gmail.com</span></span></span></span><o:p></o:p></p>\n
LOCATION:2810 West 24th Street\, Between Casey's and the Buckle Details and more info: (308) 440-0241. www.kearneycrossfit.com. kearneycrossfit@gmail.com Click here to edit...
UID:e.1404.5153
SEQUENCE:3
DTSTAMP:20260423T113937Z
URL:https://members.kearneycoc.org/events/details/safe-center-meets-team-usa-07-12-2014-5153
END:VEVENT

END:VCALENDAR
