BEGIN:VCALENDAR
VERSION:2.0
PRODID:-//ChamberMaster//Event Calendar 2.0//EN
METHOD:PUBLISH
X-PUBLISHED-TTL:P3D
REFRESH-INTERVAL:P3D
CALSCALE:GREGORIAN
BEGIN:VEVENT
DTSTART:20190926T130000Z
DTEND:20190926T220000Z
X-MICROSOFT-CDO-ALLDAYEVENT:FALSE
SUMMARY:Safety & Wellness Conference
DESCRIPTION:Don't miss this all day conference with more than 20 breakout sessions\, the Safety & Wellness Awards luncheon and a full exhibit hall with diverse vendors and prizes! Professional speakers represent a myriad of safety and wellness topics. Learn a lot in just one day!
X-ALT-DESC;FMTTYPE=text/html:Don&#39\;t miss this all day conference with more than 20 breakout sessions\, the Safety &amp\; Wellness Awards luncheon and a full exhibit hall with diverse vendors and prizes! Professional speakers represent a myriad of safety and wellness topics. Learn a lot in just one day!
LOCATION:Younes Conference Center
UID:e.1404.17907
SEQUENCE:3
DTSTAMP:20260425T180700Z
URL:https://members.kearneycoc.org/events/details/safety-wellness-conference-17907
END:VEVENT

END:VCALENDAR
