BEGIN:VCALENDAR
VERSION:2.0
PRODID:-//ChamberMaster//Event Calendar 2.0//EN
METHOD:PUBLISH
X-PUBLISHED-TTL:P3D
REFRESH-INTERVAL:P3D
CALSCALE:GREGORIAN
BEGIN:VEVENT
DTSTART;VALUE=DATE:20131008
DTEND;VALUE=DATE:20131009
TRANSP:TRANSPARENT
X-MICROSOFT-CDO-ALLDAYEVENT:TRUE
SUMMARY:Sales and Use Tax Seminar
DESCRIPTION:The Nebraska Department of Revenue will be holding limited Sales and Use Tax seminars in Fall 2013. \n\n	\n		Tuesday\, October 8\n	\n		University of Nebraska at Kearney\n	\n		2505 20th Avenue\n	\n		Contact Leslie Means at lmeans@kearneycoc.org to register\n	\n		Free\n	\n		Click HERE for more details\n\n\n	Session topics and descriptions:\n\n	\n		General Nebraska Sales and Use Taxes:  8:30-12:00pm\n	\n		Microenterprise Tax Credit:  1:00pm-2:00pm\n	\n		Construction Contractors:  2:00pm-4:30pm
X-ALT-DESC;FMTTYPE=text/html:<p style="font-family: Arial\, Helvetica\, sans-serif\;">\n	<b><font size="4" style="text-decoration: underline\;">The Nebraska Department of Revenue will be holding limited Sales and Use Tax seminars in Fall 2013.&nbsp\;</font></b></p>\n<ul>\n	<li style="list-style-type: square\;">\n		Tuesday\, October 8</li>\n	<li style="list-style-type: square\;">\n		University of Nebraska at Kearney</li>\n	<li style="list-style-type: square\;">\n		2505 20th Avenue</li>\n	<li style="list-style-type: square\;">\n		Contact Leslie Means at lmeans@kearneycoc.org to register</li>\n	<li style="list-style-type: square\;">\n		Free</li>\n	<li style="list-style-type: square\;">\n		Click&nbsp\;<a href="http://www.revenue.ne.gov/education/educate.html" style="text-decoration: none\; color: rgb(0\, 51\, 102)\;">HERE&nbsp\;</a>for more details</li>\n</ul>\n<p style="font-family: Arial\, Helvetica\, sans-serif\; font-size: 14px\;">\n	<font color="#2b6c38" style="text-decoration: underline\;">Session topics and descriptions</font><font color="#2b6c38">:</font></p>\n<ul>\n	<li style="list-style-type: square\;">\n		<font size="2">General Nebraska Sales and Use Taxes: &nbsp\;8:30-12:00pm</font></li>\n	<li style="list-style-type: square\;">\n		<font size="2">Microenterprise Tax Credit: &nbsp\;1:00pm-2:00pm</font></li>\n	<li style="list-style-type: square\;">\n		<font size="2">Construction Contractors: &nbsp\;2:00pm-4:30pm</font></li>\n	<li>\n		&nbsp\;</li>\n</ul>\n<p>\n	&nbsp\;</p>\n
LOCATION:
UID:e.1404.3320
SEQUENCE:3
DTSTAMP:20260424T020859Z
URL:https://members.kearneycoc.org/events/details/sales-and-use-tax-seminar-10-08-2013-3320
END:VEVENT

END:VCALENDAR
