BEGIN:VCALENDAR
VERSION:2.0
PRODID:-//ChamberMaster//Event Calendar 2.0//EN
METHOD:PUBLISH
X-PUBLISHED-TTL:P3D
REFRESH-INTERVAL:P3D
CALSCALE:GREGORIAN
BEGIN:VEVENT
DTSTART:20191207T010000Z
DTEND:20191207T030000Z
X-MICROSOFT-CDO-ALLDAYEVENT:FALSE
SUMMARY:Sandi Patti
DESCRIPTION:Grammy award winning Christian contemporary artist Sandi Patti is sharing her critically acclaimed voice at the Merryman!
X-ALT-DESC;FMTTYPE=text/html:Grammy award winning Christian contemporary artist Sandi Patti is sharing her critically acclaimed voice at the Merryman!
LOCATION:Merryman Performing Arts Center Kearney\, NE
UID:e.1404.15962
SEQUENCE:3
DTSTAMP:20260425T130903Z
URL:https://members.kearneycoc.org/events/details/sandi-patti-15962
END:VEVENT

END:VCALENDAR
