BEGIN:VCALENDAR
VERSION:2.0
PRODID:-//ChamberMaster//Event Calendar 2.0//EN
METHOD:PUBLISH
X-PUBLISHED-TTL:P3D
REFRESH-INTERVAL:P3D
CALSCALE:GREGORIAN
BEGIN:VEVENT
DTSTART:20191207T010000Z
DTEND:20191207T033000Z
X-MICROSOFT-CDO-ALLDAYEVENT:FALSE
SUMMARY:Sandi Patty
DESCRIPTION:Five Time Grammy award winning Christian artist Sandi Patty celebrates the season with Christmas anthems\, "Angels We Have Heard on High\, "Joyful\, Joyful WE Adore Thee\," and Sandi's original version of "O Holy Night." Tickets Available: https://pickmytickets.com/ (308) 698 - 8297
X-ALT-DESC;FMTTYPE=text/html:Five Time Grammy award winning Christian artist Sandi Patty celebrates the season with Christmas anthems\, &ldquo\;Angels We Have Heard on High\, &ldquo\;Joyful\, Joyful WE Adore Thee\,&rdquo\; and Sandi&rsquo\;s original version of &ldquo\;O Holy Night.&rdquo\; Tickets Available: https://pickmytickets.com/ (308) 698 - 8297
LOCATION:Merryman Performing Arts Center 225 W 22nd St Kearney\, NE 68845
UID:e.1404.16635
SEQUENCE:3
DTSTAMP:20260425T131104Z
URL:https://members.kearneycoc.org/events/details/sandi-patty-12-06-2019-16635
END:VEVENT

END:VCALENDAR
