BEGIN:VCALENDAR
VERSION:2.0
PRODID:-//ChamberMaster//Event Calendar 2.0//EN
METHOD:PUBLISH
X-PUBLISHED-TTL:P3D
REFRESH-INTERVAL:P3D
CALSCALE:GREGORIAN
BEGIN:VEVENT
DTSTART:20211218T190000Z
DTEND:20211218T220000Z
X-MICROSOFT-CDO-ALLDAYEVENT:FALSE
SUMMARY:Santa Claus at the Rustic Patch!
DESCRIPTION:Santa Claus will be visiting the Rustic Patch!\n\nThe Rustic Patch will be serving gourmet food samples highlighting our Pantry items: Wind & Willow\, Resident Chef\, Cup of Coa Hot Cocoa and Caramel Apple Cider!\n\n \n\nStore Specials:\n\nSelected items are 20-30%
X-ALT-DESC;FMTTYPE=text/html:<br />\n<span style="color:black\;"><span style="font-family:helvetica\,sans-serif\;"><span style="font-size:13.5pt\;">Santa Claus will be visiting the Rustic Patch!<br />\nThe Rustic Patch will be serving gourmet food samples highlighting our Pantry items: Wind &amp\; Willow\, Resident Chef\, Cup of Coa Hot Cocoa and Caramel Apple Cider!</span></span></span><br />\n&nbsp\;<br />\n<span style="color:black\;"><span style="font-family:helvetica\,sans-serif\;"><span style="font-size:13.5pt\;">Store Specials:</span></span></span><br />\n<span style="color:black\;"><span style="font-family:helvetica\,sans-serif\;"><span style="font-size:13.5pt\;">Selected items are 20-30%</span></span></span>
LOCATION:The Rustic Patch 2110 Central Ave.\, Kearney
UID:e.1404.19473
SEQUENCE:3
DTSTAMP:20260423T195234Z
URL:https://members.kearneycoc.org/events/details/santa-claus-at-the-rustic-patch-19473
END:VEVENT

END:VCALENDAR
