BEGIN:VCALENDAR
VERSION:2.0
PRODID:-//ChamberMaster//Event Calendar 2.0//EN
METHOD:PUBLISH
X-PUBLISHED-TTL:P3D
REFRESH-INTERVAL:P3D
CALSCALE:GREGORIAN
BEGIN:VEVENT
DTSTART:20140320T170000Z
DTEND:20140320T180000Z
X-MICROSOFT-CDO-ALLDAYEVENT:FALSE
SUMMARY:SBA Loan Presentation - Free (Lunch is provided)
DESCRIPTION:Don't miss out on this great opportunity to finance your new or existing business with an SBA guaranteed loan through our network of lenders across Nebraska.  For a limited time\, there are no up-front fees from the SBA for all loans under $150\,000\, and veterans can get a loan up to $350\,000 with no up-front fees using the SBA Veteran's Advantage Initiative.\n\n\n\nNeed working capital?  A line of credit?  Refinance an existing commercial loan?  Get inventory for your growing small business?  Now is the time to visit your lender and take advantage\, saving your business thousands of dollars in up-front fee costs.  Learn all about applying for an SBA guaranteed loan and what banks look for in a successful application at our free seminar.  \n\n\n\nDiscover how our specific programs\, such a 7(a)\, Express\, CAPLines\, and 504 can help.  As a bonus\, learn from our resource partners\, SCORE and NBDC and how they can help you put together a knockout business plan.  \n\n\n\nPresented by:  Michael Foutch - Economic Development Specialist\n\nNebraska District Office
X-ALT-DESC;FMTTYPE=text/html:Don&#39\;t miss out on this great opportunity to finance your new or existing business with an SBA guaranteed loan through our network of lenders across Nebraska. &nbsp\;For a limited time\, there are no up-front fees from the SBA for all loans under $150\,000\, and veterans can get a loan up to $350\,000 with no up-front fees using the SBA Veteran&#39\;s Advantage Initiative.<br />\n<br />\nNeed working capital? &nbsp\;A line of credit? &nbsp\;Refinance an existing commercial loan? &nbsp\;Get inventory for your growing small business? &nbsp\;Now is the time to visit your lender and take advantage\, saving your business thousands of dollars in up-front fee costs. &nbsp\;Learn all about applying for an SBA guaranteed loan and what banks look for in a successful application at our free seminar. &nbsp\;<br />\n<br />\nDiscover how our specific programs\, such a 7(a)\, Express\, CAPLines\, and 504 can help. &nbsp\;As a bonus\, learn from our resource partners\, SCORE and NBDC and how they can help you put together a knockout business plan. &nbsp\;<br />\n<br />\nPresented by: &nbsp\;Michael Foutch -&nbsp\;<span style="color: rgb(31\, 73\, 125)\;"><span style="font-family: tahoma\,sans-serif\;"><span style="font-size: 10pt\;">Economic Development Specialist</span></span></span><br />\n<span style="color: rgb(31\, 73\, 125)\;"><span style="font-family: tahoma\,sans-serif\;"><span style="font-size: 10pt\;">Nebraska District Office&nbsp\;</span></span></span><br />\n&nbsp\;
LOCATION:Kearney Area Chamber of Commerce Board Room
UID:e.1404.3943
SEQUENCE:3
DTSTAMP:20260423T181119Z
URL:https://members.kearneycoc.org/events/details/sba-loan-presentation-free-lunch-is-provided-03-20-2014-3943
END:VEVENT

END:VCALENDAR
