BEGIN:VCALENDAR
VERSION:2.0
PRODID:-//ChamberMaster//Event Calendar 2.0//EN
METHOD:PUBLISH
X-PUBLISHED-TTL:P3D
REFRESH-INTERVAL:P3D
CALSCALE:GREGORIAN
BEGIN:VEVENT
DTSTART:20211204T010000Z
DTEND:20211204T033000Z
X-MICROSOFT-CDO-ALLDAYEVENT:FALSE
SUMMARY:SELAH
DESCRIPTION:Join us at the Merryman in Kearney as we celebrate the Christmas season with Christian vocal trio SELAH! With unmatched talent\, a passion for ministry and a deep love for the Church - SELAH breathes new life into timeless classics we all know and love. Tickets are on sale NOW at pickmytickets.com or by calling (308) 698-8297.
X-ALT-DESC;FMTTYPE=text/html:Join us at the Merryman in Kearney as we celebrate the Christmas season with Christian vocal trio SELAH! With unmatched talent\, a passion for ministry and a deep love for the Church - SELAH breathes new life into timeless classics we all know and love. Tickets are on sale NOW at pickmytickets.com or by calling (308) 698-8297.
LOCATION:Merryman Performing Arts Center 225 W 22nd Street Kearney\, NE
UID:e.1404.19399
SEQUENCE:3
DTSTAMP:20260423T194938Z
URL:https://members.kearneycoc.org/events/details/selah-19399
END:VEVENT

END:VCALENDAR
