BEGIN:VCALENDAR
VERSION:2.0
PRODID:-//ChamberMaster//Event Calendar 2.0//EN
METHOD:PUBLISH
X-PUBLISHED-TTL:P3D
REFRESH-INTERVAL:P3D
CALSCALE:GREGORIAN
BEGIN:VEVENT
DTSTART:20220212T010000Z
DTEND:20220212T033000Z
X-MICROSOFT-CDO-ALLDAYEVENT:FALSE
SUMMARY:SELAH - Live at the Merryman
DESCRIPTION:Join us at the Merryman with the Christian vocal trio SELAH! With their soaring harmonies\, they have breathed new life into timeless musical treasures\, with such hits as "Wonderful\, Merciful Savior"\, "You Raise Me Up"\, "All My Praise"\, and their latest release "Glory Hallelujah." Tickets are available online at pickmytickts.com or by calling the box office at (308) 698-8297.
X-ALT-DESC;FMTTYPE=text/html:Join us at the Merryman with the Christian vocal trio SELAH! With their soaring harmonies\, they have breathed new life into timeless musical treasures\, with such hits as &ldquo\;Wonderful\, Merciful Savior&quot\;\, &ldquo\;You Raise Me Up&quot\;\, &ldquo\;All My Praise&rdquo\;\, and their latest release &quot\;Glory Hallelujah.&quot\; Tickets are available online at pickmytickts.com or by calling the box office at (308) 698-8297.
LOCATION:Merryman Performing Arts Center 225 W 22nd Street Kearney\, NE
UID:e.1404.19474
SEQUENCE:3
DTSTAMP:20260423T181212Z
URL:https://members.kearneycoc.org/events/details/selah-live-at-the-merryman-19474
END:VEVENT

END:VCALENDAR
