BEGIN:VCALENDAR
VERSION:2.0
PRODID:-//ChamberMaster//Event Calendar 2.0//EN
METHOD:PUBLISH
X-PUBLISHED-TTL:P3D
REFRESH-INTERVAL:P3D
CALSCALE:GREGORIAN
BEGIN:VEVENT
DTSTART:20140604T220000Z
DTEND:20140604T233000Z
X-MICROSOFT-CDO-ALLDAYEVENT:FALSE
SUMMARY:Send-Off Party
DESCRIPTION:Join the Veterans of the first Buffalo County Korean War Hero Flight for a Send-Off Celebration! A meal with be provided for a free will donation to the flight.\n\n\n\nPresentation to include:\n\n\n	Introduction of Veterans\n	Picture of the Flight Group\n	Presentation of Name Tags\, Luggage Tags\, Goody Bags\, Bio Booklet\, etc.\n	Patriotic Guard Flag Line\n	Departure at 6:30 pm
X-ALT-DESC;FMTTYPE=text/html:Join the Veterans of the first Buffalo County Korean War Hero Flight for a Send-Off Celebration! A meal with be provided for a free will donation to the flight.<br />\n<br />\n<u><strong>Presentation to include:</strong></u>\n\n<ul>\n	<li>Introduction of Veterans</li>\n	<li>Picture of the Flight Group</li>\n	<li>Presentation of Name Tags\, Luggage Tags\, Goody Bags\, Bio Booklet\, etc.</li>\n	<li>Patriotic Guard Flag Line</li>\n	<li>Departure at 6:30 pm</li>\n</ul>\n
LOCATION:American Legion Club 1223 Central Avenue Kearney\, NE
UID:e.1404.4852
SEQUENCE:3
DTSTAMP:20260423T113521Z
URL:https://members.kearneycoc.org/events/details/send-off-party-06-04-2014-4852
END:VEVENT

END:VCALENDAR
