BEGIN:VCALENDAR
VERSION:2.0
PRODID:-//ChamberMaster//Event Calendar 2.0//EN
METHOD:PUBLISH
X-PUBLISHED-TTL:P3D
REFRESH-INTERVAL:P3D
CALSCALE:GREGORIAN
BEGIN:VEVENT
DTSTART:20220125T160000Z
DTEND:20220125T170000Z
X-MICROSOFT-CDO-ALLDAYEVENT:FALSE
SUMMARY:Senior Coalition
DESCRIPTION:Chair: Jackie Purdy\n\nMeeting Schedule: 4th Tuesday of each month at 10:00 a.m.\n\n\n\nWe certainly hope you all had a wonderful holiday season!  The Senior Coalition is ready to start the year off with a fun visit to Ktown Cakery on January 25th.  Have fun looking around the Mercantile side of the building which has gourmet cooking supplies\, tools\, and ingredients.  Then relax in the dining area of the Ktown Cakery side where we will enjoy coffee and refreshments\, provided by Ktown Cakery.  We can't wait to see everyone!\n\n\n\n\n\n\n\n\n\nThe purpose of the Senior Coalition is to offer monthly community education to the retired community.\n\n\n\nThis committee is open to all retired (or age of retirement) Kearney Chamber Members. To inquire about joining this group\, contact Heather Ullman\, hullman@kearneycoc\,org\, or join us for one of our meetings.
X-ALT-DESC;FMTTYPE=text/html:<b style="color: rgb(0\, 0\, 0)\; font-family: Helvetica\, Arial\, sans-serif\;">Chair:</b><span style="color: rgb(0\, 0\, 0)\; font-family: Helvetica\, Arial\, sans-serif\;">&nbsp\;Jackie Purdy</span><br style="color: rgb(0\, 0\, 0)\; font-family: Helvetica\, Arial\, sans-serif\;" />\n<b style="color: rgb(0\, 0\, 0)\; font-family: Helvetica\, Arial\, sans-serif\;">Meeting Schedule:</b><span style="color: rgb(0\, 0\, 0)\; font-family: Helvetica\, Arial\, sans-serif\;">&nbsp\;4th Tuesday of each month at 10:00 a.m.</span><br style="color: rgb(0\, 0\, 0)\; font-family: Helvetica\, Arial\, sans-serif\;" />\n<br />\nWe certainly hope you all had a wonderful holiday season!&nbsp\; The Senior Coalition is ready to start the year off with a fun visit to Ktown Cakery on January 25th.&nbsp\; Have fun looking around the Mercantile side of the building which has gourmet cooking supplies\, tools\, and ingredients.&nbsp\; Then relax in the dining area of the Ktown Cakery side where we will enjoy coffee and refreshments\, provided by Ktown Cakery.&nbsp\; We can&#39\;t wait to see everyone!<br />\n<br />\n<br />\n<br />\n<br style="color: rgb(0\, 0\, 0)\; font-family: Helvetica\, Arial\, sans-serif\;" />\n<span style="color: rgb(0\, 0\, 0)\; font-family: Helvetica\, Arial\, sans-serif\;">The purpose of the Senior Coalition is to offer monthly community education to the retired community.</span><br style="color: rgb(0\, 0\, 0)\; font-family: Helvetica\, Arial\, sans-serif\;" />\n<br style="color: rgb(0\, 0\, 0)\; font-family: Helvetica\, Arial\, sans-serif\;" />\n<span style="color: rgb(0\, 0\, 0)\; font-family: Helvetica\, Arial\, sans-serif\;">This committee is open to all retired (or age of retirement) Kearney Chamber Members. To inquire about joining this group\, contact Heather Ullman\, <a href="mailto:hullman@kearneycoc.org">hullman@kearneycoc\,org</a>\,&nbsp\;</span><span style="color: rgb(0\, 0\, 0)\; font-family: Helvetica\, Arial\, sans-serif\;">or join us for one of our meetings.</span>
LOCATION:Central Mercantile featuring Ktown Cakery
UID:e.1404.5765
SEQUENCE:3
DTSTAMP:20260423T195228Z
URL:https://members.kearneycoc.org/events/details/senior-coalition-01-25-2022-5765
END:VEVENT

END:VCALENDAR
