BEGIN:VCALENDAR
VERSION:2.0
PRODID:-//ChamberMaster//Event Calendar 2.0//EN
METHOD:PUBLISH
X-PUBLISHED-TTL:P3D
REFRESH-INTERVAL:P3D
CALSCALE:GREGORIAN
BEGIN:VEVENT
DTSTART:20220222T160000Z
DTEND:20220222T170000Z
X-MICROSOFT-CDO-ALLDAYEVENT:FALSE
SUMMARY:Senior Coalition
DESCRIPTION:Chair: Jackie Purdy\n\nMeeting Schedule: 4th Tuesday of each month at 10:00 a.m.\n\n\n\nFor February\, we will be having fun over at the Kearney Area Children's Museum on the 22nd at 10:00 a.m.\n\nJoin us as we check out the new exhibits and attractions\, as well as learn more about how the Children's Museum helps the Kearney community and the programs they offer.  Coffee and cookies will be provided!\n\n\n\nThe purpose of the Senior Coalition is to offer monthly community education to the retired community.\n\n\n\nThis committee is open to all retired (or age of retirement) Kearney Chamber Members. To inquire about joining this group\, contact Heather Ullman\, hullman@kearneycoc\,org\, or join us for one of our meetings.
X-ALT-DESC;FMTTYPE=text/html:<b style="color: rgb(0\, 0\, 0)\; font-family: Helvetica\, Arial\, sans-serif\;">Chair:</b><span style="color: rgb(0\, 0\, 0)\; font-family: Helvetica\, Arial\, sans-serif\;">&nbsp\;Jackie Purdy</span><br style="color: rgb(0\, 0\, 0)\; font-family: Helvetica\, Arial\, sans-serif\;" />\n<b style="color: rgb(0\, 0\, 0)\; font-family: Helvetica\, Arial\, sans-serif\;">Meeting Schedule:</b><span style="color: rgb(0\, 0\, 0)\; font-family: Helvetica\, Arial\, sans-serif\;">&nbsp\;4th Tuesday of each month at 10:00 a.m.</span><br />\n<br style="color: rgb(0\, 0\, 0)\; font-family: Helvetica\, Arial\, sans-serif\;" />\nFor February\, we will be having fun over at the Kearney Area Children&#39\;s Museum on the 22nd at 10:00 a.m.<br />\nJoin us as we check out the new exhibits and attractions\, as well as learn more about how the Children&#39\;s Museum helps the Kearney community and the programs they offer.&nbsp\; Coffee and cookies will be provided!<br />\n<br style="color: rgb(0\, 0\, 0)\; font-family: Helvetica\, Arial\, sans-serif\;" />\n<span style="color: rgb(0\, 0\, 0)\; font-family: Helvetica\, Arial\, sans-serif\;">The purpose of the Senior Coalition is to offer monthly community education to the retired community.</span><br style="color: rgb(0\, 0\, 0)\; font-family: Helvetica\, Arial\, sans-serif\;" />\n<br style="color: rgb(0\, 0\, 0)\; font-family: Helvetica\, Arial\, sans-serif\;" />\n<span style="color: rgb(0\, 0\, 0)\; font-family: Helvetica\, Arial\, sans-serif\;">This committee is open to all retired (or age of retirement) Kearney Chamber Members. To inquire about joining this group\, contact Heather Ullman\, <a href="mailto:hullman@kearneycoc.org">hullman@kearneycoc\,org</a>\,&nbsp\;</span><span style="color: rgb(0\, 0\, 0)\; font-family: Helvetica\, Arial\, sans-serif\;">or join us for one of our meetings.</span>
LOCATION:Kearney Area Children's Museum
UID:e.1404.5766
SEQUENCE:3
DTSTAMP:20260423T180909Z
URL:https://members.kearneycoc.org/events/details/senior-coalition-02-22-2022-5766
END:VEVENT

END:VCALENDAR
