BEGIN:VCALENDAR
VERSION:2.0
PRODID:-//ChamberMaster//Event Calendar 2.0//EN
METHOD:PUBLISH
X-PUBLISHED-TTL:P3D
REFRESH-INTERVAL:P3D
CALSCALE:GREGORIAN
BEGIN:VEVENT
DTSTART:20220524T150000Z
DTEND:20220524T160000Z
X-MICROSOFT-CDO-ALLDAYEVENT:FALSE
SUMMARY:Senior Coalition
DESCRIPTION:Chair: Jackie Purdy\n\nMeeting Schedule: 4th Tuesday of each month at 10:00 a.m.\n\n\n\nThe Senior Coalition will meet at the Ernest Grundy Tennis Center on May 24th at 10:00.  Join us as we tour the 62\,000 square foot facility and explore all the additional features!\n\n\n\nThe purpose of the Senior Coalition is to offer monthly community education to the retired community.\n\n\n\nThis committee is open to all retired (or age of retirement) Kearney Chamber Members. To inquire about joining this group\, contact Heather Ullman\, hullman@kearneycoc\,org\, or join us for one of our meetings.
X-ALT-DESC;FMTTYPE=text/html:<b style="color: rgb(0\, 0\, 0)\; font-family: Helvetica\, Arial\, sans-serif\;">Chair:</b><span style="color: rgb(0\, 0\, 0)\; font-family: Helvetica\, Arial\, sans-serif\;">&nbsp\;Jackie Purdy</span><br style="color: rgb(0\, 0\, 0)\; font-family: Helvetica\, Arial\, sans-serif\;" />\n<b style="color: rgb(0\, 0\, 0)\; font-family: Helvetica\, Arial\, sans-serif\;">Meeting Schedule:</b><span style="color: rgb(0\, 0\, 0)\; font-family: Helvetica\, Arial\, sans-serif\;">&nbsp\;4th Tuesday of each month at 10:00 a.m.<br />\n<br />\nThe Senior Coalition will meet at the Ernest Grundy Tennis Center on May 24th at 10:00.&nbsp\; Join us as we tour the 62\,000 square foot facility and explore all the additional features!</span><br />\n<br style="color: rgb(0\, 0\, 0)\; font-family: Helvetica\, Arial\, sans-serif\;" />\n<span style="color: rgb(0\, 0\, 0)\; font-family: Helvetica\, Arial\, sans-serif\;">The purpose of the Senior Coalition is to offer monthly community education to the retired community.</span><br style="color: rgb(0\, 0\, 0)\; font-family: Helvetica\, Arial\, sans-serif\;" />\n<br style="color: rgb(0\, 0\, 0)\; font-family: Helvetica\, Arial\, sans-serif\;" />\n<span style="color: rgb(0\, 0\, 0)\; font-family: Helvetica\, Arial\, sans-serif\;">This committee is open to all retired (or age of retirement) Kearney Chamber Members. To inquire about joining this group\, contact Heather Ullman\, <a href="mailto:hullman@kearneycoc.org">hullman@kearneycoc\,org</a>\,&nbsp\;</span><span style="color: rgb(0\, 0\, 0)\; font-family: Helvetica\, Arial\, sans-serif\;">or join us for one of our meetings.</span>
LOCATION:The Ernest Grundy Tennis Center 1930 University Drive (directly west of the Safety Center on railroad)
UID:e.1404.5769
SEQUENCE:3
DTSTAMP:20260423T114422Z
URL:https://members.kearneycoc.org/events/details/senior-coalition-05-24-2022-5769
END:VEVENT

END:VCALENDAR
