BEGIN:VCALENDAR
VERSION:2.0
PRODID:-//ChamberMaster//Event Calendar 2.0//EN
METHOD:PUBLISH
X-PUBLISHED-TTL:P3D
REFRESH-INTERVAL:P3D
CALSCALE:GREGORIAN
BEGIN:VEVENT
DTSTART:20200825T150000Z
DTEND:20200825T160000Z
X-MICROSOFT-CDO-ALLDAYEVENT:FALSE
SUMMARY:Senior Coalition
DESCRIPTION:Chair: Jackie Purdy\n\nMeeting Schedule: 4th Tuesday of each month at 10:00 a.m.\n\n\n\nPlease join us as we hear from Kyla Martin with the Community Action Partnership of Mid-Nebraska Food Bank about their programs\, volunteer opportunities and how they have greatly assisted our coummunity over the past months.\n\n\n\n*This meeting will be held in person in our Chamber board room\, but will also be available virtually via Zoom\, the link is provided below.\n\n\n\nJoin Zoom Meeting\n\nhttps://us02web.zoom.us/j/84576234088\n\nMeeting ID: 845 7623 4088\n\n\n\nThe purpose of the Senior Coalition is to offer monthly community education to the retired community.\n\n\n\nThis committee is open to all retired (or age of retirement) Kearney Chamber Members. To inquire about joining this group\, contact Amy Cope at acope@kearneycoc.org or join us for one of our meetings.
X-ALT-DESC;FMTTYPE=text/html:<b style="color: rgb(0\, 0\, 0)\; font-family: Helvetica\, Arial\, sans-serif\;">Chair:</b><span style="color: rgb(0\, 0\, 0)\; font-family: Helvetica\, Arial\, sans-serif\;">&nbsp\;Jackie Purdy</span><br style="color: rgb(0\, 0\, 0)\; font-family: Helvetica\, Arial\, sans-serif\;" />\n<b style="color: rgb(0\, 0\, 0)\; font-family: Helvetica\, Arial\, sans-serif\;">Meeting Schedule:</b><span style="color: rgb(0\, 0\, 0)\; font-family: Helvetica\, Arial\, sans-serif\;">&nbsp\;4th Tuesday of each month at 10:00 a.m.</span><br style="color: rgb(0\, 0\, 0)\; font-family: Helvetica\, Arial\, sans-serif\;" />\n<br />\n<strong><span style="font-family:tahoma\,sans-serif\;"><strong><span style="font-family:tahoma\,sans-serif\;">Please join us as we hear from Kyla Martin with the Community Action Partnership of Mid-Nebraska Food Bank about their programs\, volunteer opportunities and how they have greatly assisted our coummunity over the past months.</span></strong><br />\n<br />\n<strong><span style="font-family:tahoma\,sans-serif\;">*This meeting will be held in person in&nbsp\;our Chamber board room\, but will also be available virtually via Zoom\, the link is provided below.</span></strong></span></strong><br />\n<br />\n<span style="font-family:calibri\,sans-serif\;"><span style="font-size:11.0pt\;">Join Zoom Meeting<br />\n<a href="https://us02web.zoom.us/j/84576234088">https://us02web.zoom.us/j/84576234088</a><br />\nMeeting ID: 845 7623 4088</span></span><br />\n<br style="color: rgb(0\, 0\, 0)\; font-family: Helvetica\, Arial\, sans-serif\;" />\n<span style="color: rgb(0\, 0\, 0)\; font-family: Helvetica\, Arial\, sans-serif\;">The purpose of the Senior Coalition is to offer monthly community education to the retired community.</span><br style="color: rgb(0\, 0\, 0)\; font-family: Helvetica\, Arial\, sans-serif\;" />\n<br style="color: rgb(0\, 0\, 0)\; font-family: Helvetica\, Arial\, sans-serif\;" />\n<span style="color: rgb(0\, 0\, 0)\; font-family: Helvetica\, Arial\, sans-serif\;">This committee is open to all retired (or age of retirement) Kearney Chamber Members. To inquire about joining this group\, contact Amy Cope at <a href="mailto:acope@kearneycoc.org">acope@kearneycoc.org</a>&nbsp\;</span><span style="color: rgb(0\, 0\, 0)\; font-family: Helvetica\, Arial\, sans-serif\;">or join us for one of our meetings.</span>
LOCATION:Kearney Area Chamber of Commerce Join Zoom Meeting https://us02web.zoom.us/j/84576234088 Meeting ID: 845 7623 4088
UID:e.1404.5748
SEQUENCE:3
DTSTAMP:20260425T002129Z
URL:https://members.kearneycoc.org/events/details/senior-coalition-08-25-2020-5748
END:VEVENT

END:VCALENDAR
