BEGIN:VCALENDAR
VERSION:2.0
PRODID:-//ChamberMaster//Event Calendar 2.0//EN
METHOD:PUBLISH
X-PUBLISHED-TTL:P3D
REFRESH-INTERVAL:P3D
CALSCALE:GREGORIAN
BEGIN:VEVENT
DTSTART:20190924T150000Z
DTEND:20190924T160000Z
X-MICROSOFT-CDO-ALLDAYEVENT:FALSE
SUMMARY:Senior Coalition
DESCRIPTION:Chair: Jackie Purdy\n\nMeeting Schedule: 4th Tuesday of each month at 10:00 a.m.\n\n\n\nThe purpose of the Senior Coalition is to offer monthly community education to the retired community.\n\n\n\nThis committee is open to all retired (or age of retirement) Kearney Chamber Members. To inquire about joining this group\, contact Amy Cope at acope@kearneycoc.org or join us for one of our meetings.\n\n\n\nJoin us in September for a tour of the Frank Museum\, including the newly renovated 2nd & 3rd floors!\n\n* please note\, there is no elevator access\n\n\n\nRefreshments will be provided
X-ALT-DESC;FMTTYPE=text/html:<b style="color: rgb(0\, 0\, 0)\; font-family: Helvetica\, Arial\, sans-serif\;">Chair:</b><span style="color: rgb(0\, 0\, 0)\; font-family: Helvetica\, Arial\, sans-serif\;">&nbsp\;Jackie Purdy</span><br style="color: rgb(0\, 0\, 0)\; font-family: Helvetica\, Arial\, sans-serif\;" />\n<b style="color: rgb(0\, 0\, 0)\; font-family: Helvetica\, Arial\, sans-serif\;">Meeting Schedule:</b><span style="color: rgb(0\, 0\, 0)\; font-family: Helvetica\, Arial\, sans-serif\;">&nbsp\;4th Tuesday of each month at 10:00 a.m.</span><br style="color: rgb(0\, 0\, 0)\; font-family: Helvetica\, Arial\, sans-serif\;" />\n<br style="color: rgb(0\, 0\, 0)\; font-family: Helvetica\, Arial\, sans-serif\;" />\n<span style="color: rgb(0\, 0\, 0)\; font-family: Helvetica\, Arial\, sans-serif\;">The purpose of the Senior Coalition is to offer monthly community education to the retired community.</span><br style="color: rgb(0\, 0\, 0)\; font-family: Helvetica\, Arial\, sans-serif\;" />\n<br style="color: rgb(0\, 0\, 0)\; font-family: Helvetica\, Arial\, sans-serif\;" />\n<span style="color: rgb(0\, 0\, 0)\; font-family: Helvetica\, Arial\, sans-serif\;">This committee is open to all retired (or age of retirement) Kearney Chamber Members. To inquire about joining this group\, contact Amy Cope at <a href="mailto:acope@kearneycoc.org">acope@kearneycoc.org</a></span><span style="color: rgb(0\, 0\, 0)\; font-family: Helvetica\, Arial\, sans-serif\;">&nbsp\;or join us for one of our meetings.<br />\n<br />\nJoin us in Septem</span><span style="color: rgb(0\, 0\, 0)\; font-family: Helvetica\, Arial\, sans-serif\;">ber for a tour of the Frank Museum\, including the newly renovated 2nd &amp\; 3rd floors!<br />\n<em>*&nbsp\;please note\, there is no elevator access</em><br />\n<br />\nRefreshments will be provided</span>
LOCATION:The Frank Museum University of Nebraska at Kearney\, 2010 University Drive\, west end of campus
UID:e.1404.5737
SEQUENCE:3
DTSTAMP:20260425T194907Z
URL:https://members.kearneycoc.org/events/details/senior-coalition-09-24-2019-5737
END:VEVENT

END:VCALENDAR
